BEGIN:VCALENDAR
VERSION:2.0
PRODID:-//wp-events-plugin.com//6.6.4.1//EN
TZID:Europe/Paris
X-WR-TIMEZONE:Europe/Paris
BEGIN:VEVENT
UID:23@eadformations.com
DTSTART;TZID=Europe/Paris:20240610T093000
DTEND;TZID=Europe/Paris:20240614T173000
DTSTAMP:20240524T131130Z
URL:https://eadformations.com/formations/formation-abat-jour-35-heures-7/
SUMMARY:Formation abat-jour | 35H
DESCRIPTION:\nTarif et informations\nLe tarif est en fonction de votre proj
 et\, des options que vous choisissez pour votre formation (durée\, option
 s\, modules) et de votre mode de financement (CPF\, France Travail\, opco\
 , fafcea\, Conseil régional\, financement personnel...). Taux horaire : 
 à partir de 35 €/heure\nChaque apprenant a une demande différente et n
 ous nous efforçons de vous proposer les meilleurs options en rapport avec
  votre situation et projet.\nVotre conseiller référence EAD formations e
 st là pour vous aider et vous accompagner dans la mise en place de votre 
 projet et votre demande de prise en charge auprès des organismes de finan
 cement en fonction de votre situation.\nContactez votre référent formati
 on : Madame Leroux au 07.63.59.23.09 ou ici via notre formulaire de contac
 t (réponse dans la journée ou en 24h00 maximum)\n
CATEGORIES:Formation certifiante abat-jour | 35H,Formation professionnelle
LOCATION:EAD Formations\, 3 rue Louis Le Vau\, Versailles\, 78000\, France
X-APPLE-STRUCTURED-LOCATION;VALUE=URI;X-ADDRESS=3 rue Louis Le Vau\, Versai
 lles\, 78000\, France;X-APPLE-RADIUS=100;X-TITLE=EAD Formations:geo:0,0
END:VEVENT
BEGIN:VTIMEZONE
TZID:Europe/Paris
X-LIC-LOCATION:Europe/Paris
BEGIN:DAYLIGHT
DTSTART:20240331T030000
TZOFFSETFROM:+0100
TZOFFSETTO:+0200
TZNAME:CEST
END:DAYLIGHT
END:VTIMEZONE
END:VCALENDAR