BEGIN:VCALENDAR
VERSION:2.0
PRODID:-//wp-events-plugin.com//6.6.4.1//EN
TZID:Europe/Paris
X-WR-TIMEZONE:Europe/Paris
BEGIN:VEVENT
UID:82@eadformations.com
DTSTART;TZID=Europe/Paris:20240408T093000
DTEND;TZID=Europe/Paris:20240412T173000
DTSTAMP:20240319T181056Z
URL:https://eadformations.com/formations/formation-couture-ameublement-35h
 -6/
SUMMARY:Formation couture ameublement | 35H
DESCRIPTION:\nPourquoi nous ne pouvons pas indiquer le tarif sur le site ?\
 nLe tarif est en fonction de votre projet\, des options que vous choisisse
 z pour votre formation (durée\, options\, modules) et de votre mode de fi
 nancement (CPF\, pôle emploi\, opco\, financement personnel).\nChaque app
 renant a une demande différente et nous nous efforçons de vous proposer 
 les meilleurs options en rapport avec votre situation et projet.\nPour un 
 devis précis contactez-nous au 07.63.59.23.09 ou demande en ligne via not
 re formulaire de contact (réponse dans la journée ou en 24h00 maximum)\n
 \n
CATEGORIES:Formation couture ameublement | 35H,Formation professionnelle
LOCATION:EAD Formations\, 3 rue Louis Le Vau\, Versailles\, 78000\, France
X-APPLE-STRUCTURED-LOCATION;VALUE=URI;X-ADDRESS=3 rue Louis Le Vau\, Versai
 lles\, 78000\, France;X-APPLE-RADIUS=100;X-TITLE=EAD Formations:geo:0,0
END:VEVENT
BEGIN:VTIMEZONE
TZID:Europe/Paris
X-LIC-LOCATION:Europe/Paris
BEGIN:DAYLIGHT
DTSTART:20240331T030000
TZOFFSETFROM:+0100
TZOFFSETTO:+0200
TZNAME:CEST
END:DAYLIGHT
END:VTIMEZONE
END:VCALENDAR