BEGIN:VCALENDAR
VERSION:2.0
PRODID:-//wp-events-plugin.com//6.6.4.1//EN
TZID:Europe/Paris
X-WR-TIMEZONE:Europe/Paris
BEGIN:VEVENT
UID:124@eadformations.com
DTSTART;TZID=Europe/Paris:20240415T093000
DTEND;TZID=Europe/Paris:20240418T173000
DTSTAMP:20240321T100733Z
URL:https://eadformations.com/formations/formation-creation-dentreprise/
SUMMARY:Formation création d'entreprise
DESCRIPTION:
CATEGORIES:Formation création d'entreprise,Formation professionnelle
LOCATION:EAD Formations\, 3 rue Louis Le Vau\, Versailles\, 78000\, France
X-APPLE-STRUCTURED-LOCATION;VALUE=URI;X-ADDRESS=3 rue Louis Le Vau\, Versai
 lles\, 78000\, France;X-APPLE-RADIUS=100;X-TITLE=EAD Formations:geo:0,0
END:VEVENT
BEGIN:VTIMEZONE
TZID:Europe/Paris
X-LIC-LOCATION:Europe/Paris
BEGIN:DAYLIGHT
DTSTART:20240331T030000
TZOFFSETFROM:+0100
TZOFFSETTO:+0200
TZNAME:CEST
END:DAYLIGHT
END:VTIMEZONE
END:VCALENDAR