BEGIN:VCALENDAR
VERSION:2.0
PRODID:-//wp-events-plugin.com//6.6.4.1//EN
TZID:Europe/Paris
X-WR-TIMEZONE:Europe/Paris
BEGIN:VEVENT
UID:422@eadformations.com
DTSTART;TZID=Europe/Paris:20261123T093000
DTEND;TZID=Europe/Paris:20261125T173000
DTSTAMP:20260115T113425Z
URL:https://eadformations.com/formations/formation-habilitation-electrique
 -bs-be-normes-ce-electrification-de-luminaires-21h-2/
SUMMARY:Formation habilitation électrique BS-BE / normes CE / Électrifica
 tion de luminaires | 21H
DESCRIPTION:
CATEGORIES:Formation habilitation électrique BS-BE / normes CE /
 Électrification de luminaires | 21H,Formation professionnelle
LOCATION:EAD Formations\, 3 rue Louis Le Vau\, Versailles\, 78000\, France
X-APPLE-STRUCTURED-LOCATION;VALUE=URI;X-ADDRESS=3 rue Louis Le Vau\, Versai
 lles\, 78000\, France;X-APPLE-RADIUS=100;X-TITLE=EAD Formations:geo:0,0
END:VEVENT
BEGIN:VTIMEZONE
TZID:Europe/Paris
X-LIC-LOCATION:Europe/Paris
BEGIN:STANDARD
DTSTART:20261025T020000
TZOFFSETFROM:+0200
TZOFFSETTO:+0100
TZNAME:CET
END:STANDARD
END:VTIMEZONE
END:VCALENDAR