BEGIN:VCALENDAR
VERSION:2.0
PRODID:-//wp-events-plugin.com//6.6.4.1//EN
TZID:Europe/Paris
X-WR-TIMEZONE:Europe/Paris
BEGIN:VEVENT
UID:67@eadformations.com
DTSTART;TZID=Europe/Paris:20240129T093000
DTEND;TZID=Europe/Paris:20240129T173000
DTSTAMP:20240126T102644Z
URL:https://eadformations.com/formations/formation-habilitation-electrique
 -bs-be/
SUMMARY:Formation habilitation électrique BS-BE
DESCRIPTION:
CATEGORIES:Formation habilitation électrique BS-BE / normes CE /
 Électrification de luminaires | 21H,Formation professionnelle
LOCATION:EAD Formations\, 3 rue Louis Le Vau\, Versailles\, 78000\, France
X-APPLE-STRUCTURED-LOCATION;VALUE=URI;X-ADDRESS=3 rue Louis Le Vau\, Versai
 lles\, 78000\, France;X-APPLE-RADIUS=100;X-TITLE=EAD Formations:geo:0,0
END:VEVENT
BEGIN:VTIMEZONE
TZID:Europe/Paris
X-LIC-LOCATION:Europe/Paris
BEGIN:STANDARD
DTSTART:20231029T020000
TZOFFSETFROM:+0200
TZOFFSETTO:+0100
TZNAME:CET
END:STANDARD
END:VTIMEZONE
END:VCALENDAR